BEGIN:VCALENDAR
VERSION:2.0
PRODID:-//Ichthus Lyceum - ECPv6.15.11//NONSGML v1.0//EN
CALSCALE:GREGORIAN
METHOD:PUBLISH
X-WR-CALNAME:Ichthus Lyceum
X-ORIGINAL-URL:https://www.ichthuslyceum.nl
X-WR-CALDESC:Evenementen voor Ichthus Lyceum
REFRESH-INTERVAL;VALUE=DURATION:PT1H
X-Robots-Tag:noindex
X-PUBLISHED-TTL:PT1H
BEGIN:VTIMEZONE
TZID:Europe/Amsterdam
BEGIN:DAYLIGHT
TZOFFSETFROM:+0100
TZOFFSETTO:+0200
TZNAME:CEST
DTSTART:20250330T010000
END:DAYLIGHT
BEGIN:STANDARD
TZOFFSETFROM:+0200
TZOFFSETTO:+0100
TZNAME:CET
DTSTART:20251026T010000
END:STANDARD
BEGIN:DAYLIGHT
TZOFFSETFROM:+0100
TZOFFSETTO:+0200
TZNAME:CEST
DTSTART:20260329T010000
END:DAYLIGHT
BEGIN:STANDARD
TZOFFSETFROM:+0200
TZOFFSETTO:+0100
TZNAME:CET
DTSTART:20261025T010000
END:STANDARD
BEGIN:DAYLIGHT
TZOFFSETFROM:+0100
TZOFFSETTO:+0200
TZNAME:CEST
DTSTART:20270328T010000
END:DAYLIGHT
BEGIN:STANDARD
TZOFFSETFROM:+0200
TZOFFSETTO:+0100
TZNAME:CET
DTSTART:20271031T010000
END:STANDARD
END:VTIMEZONE
BEGIN:VEVENT
DTSTART;VALUE=DATE:20260419
DTEND;VALUE=DATE:20260420
DTSTAMP:20260419T164622
CREATED:20260210T144341Z
LAST-MODIFIED:20260210T144341Z
UID:31461-1776556800-1776643199@www.ichthuslyceum.nl
SUMMARY:Repetitie musicalgroep
DESCRIPTION:
URL:https://www.ichthuslyceum.nl/gebeurtenis/repetitie-musicalgroep-2/
CATEGORIES:1 HAVO,1 VWO,2 HAVO,2 VWO,3 HAVO,3 VWO,4 HAVO,4 VWO,5 HAVO,5 VWO,6 VWO
END:VEVENT
END:VCALENDAR