BEGIN:VCALENDAR
VERSION:2.0
PRODID:-//Ichthus Lyceum - ECPv6.15.11//NONSGML v1.0//EN
CALSCALE:GREGORIAN
METHOD:PUBLISH
X-WR-CALNAME:Ichthus Lyceum
X-ORIGINAL-URL:https://www.ichthuslyceum.nl
X-WR-CALDESC:Evenementen voor Ichthus Lyceum
REFRESH-INTERVAL;VALUE=DURATION:PT1H
X-Robots-Tag:noindex
X-PUBLISHED-TTL:PT1H
BEGIN:VTIMEZONE
TZID:Europe/Amsterdam
BEGIN:DAYLIGHT
TZOFFSETFROM:+0100
TZOFFSETTO:+0200
TZNAME:CEST
DTSTART:20250330T010000
END:DAYLIGHT
BEGIN:STANDARD
TZOFFSETFROM:+0200
TZOFFSETTO:+0100
TZNAME:CET
DTSTART:20251026T010000
END:STANDARD
BEGIN:DAYLIGHT
TZOFFSETFROM:+0100
TZOFFSETTO:+0200
TZNAME:CEST
DTSTART:20260329T010000
END:DAYLIGHT
BEGIN:STANDARD
TZOFFSETFROM:+0200
TZOFFSETTO:+0100
TZNAME:CET
DTSTART:20261025T010000
END:STANDARD
BEGIN:DAYLIGHT
TZOFFSETFROM:+0100
TZOFFSETTO:+0200
TZNAME:CEST
DTSTART:20270328T010000
END:DAYLIGHT
BEGIN:STANDARD
TZOFFSETFROM:+0200
TZOFFSETTO:+0100
TZNAME:CET
DTSTART:20271031T010000
END:STANDARD
END:VTIMEZONE
BEGIN:VEVENT
DTSTART;VALUE=DATE:20260421
DTEND;VALUE=DATE:20260422
DTSTAMP:20260421T120735
CREATED:20250925T102444Z
LAST-MODIFIED:20251001T084650Z
UID:31103-1776729600-1776815999@www.ichthuslyceum.nl
SUMMARY:5H & 6V Cijfercontrole
DESCRIPTION:
URL:https://www.ichthuslyceum.nl/gebeurtenis/5h-6v-cijfercontrole/
CATEGORIES:5 HAVO,6 VWO
END:VEVENT
BEGIN:VEVENT
DTSTART;VALUE=DATE:20260421
DTEND;VALUE=DATE:20260422
DTSTAMP:20260421T120736
CREATED:20250925T102644Z
LAST-MODIFIED:20251001T084707Z
UID:31104-1776729600-1776815999@www.ichthuslyceum.nl
SUMMARY:Klas 1 GS Ruïne van Brederode
DESCRIPTION:
URL:https://www.ichthuslyceum.nl/gebeurtenis/klas-1-gs-ruine-van-brederode/
CATEGORIES:1 HAVO,1 VWO
END:VEVENT
BEGIN:VEVENT
DTSTART;TZID=Europe/Amsterdam:20260421T084500
DTEND;TZID=Europe/Amsterdam:20260421T130000
DTSTAMP:20260421T120736
CREATED:20260410T074709Z
LAST-MODIFIED:20260410T074709Z
UID:31536-1776761100-1776776400@www.ichthuslyceum.nl
SUMMARY:2Hf AK-BIO Landbouw excursie (les vanaf 13 uur)
DESCRIPTION:
URL:https://www.ichthuslyceum.nl/gebeurtenis/2hf-ak-bio-landbouw-excursie-les-vanaf-13-uur/
CATEGORIES:2 HAVO
END:VEVENT
BEGIN:VEVENT
DTSTART;TZID=Europe/Amsterdam:20260421T091000
DTEND;TZID=Europe/Amsterdam:20260421T130000
DTSTAMP:20260421T120736
CREATED:20260410T074709Z
LAST-MODIFIED:20260410T074709Z
UID:31537-1776762600-1776776400@www.ichthuslyceum.nl
SUMMARY:2Hi AK-BIO Landbouw excursie (les vanaf 13 uur)
DESCRIPTION:
URL:https://www.ichthuslyceum.nl/gebeurtenis/2hi-ak-bio-landbouw-excursie-les-vanaf-13-uur/
CATEGORIES:2 HAVO,3 HAVO
END:VEVENT
BEGIN:VEVENT
DTSTART;TZID=Europe/Amsterdam:20260421T093500
DTEND;TZID=Europe/Amsterdam:20260421T134500
DTSTAMP:20260421T120736
CREATED:20260410T074708Z
LAST-MODIFIED:20260410T074708Z
UID:31533-1776764100-1776779100@www.ichthuslyceum.nl
SUMMARY:2Hg AK-BIO Landbouw excursie (1e uur les en les vanaf 13.45 uur)
DESCRIPTION:
URL:https://www.ichthuslyceum.nl/gebeurtenis/2hg-ak-bio-landbouw-excursie-1e-uur-les-en-les-vanaf-13-45-uur/
CATEGORIES:2 HAVO
END:VEVENT
BEGIN:VEVENT
DTSTART;TZID=Europe/Amsterdam:20260421T100000
DTEND;TZID=Europe/Amsterdam:20260421T150000
DTSTAMP:20260421T120736
CREATED:20260410T074706Z
LAST-MODIFIED:20260410T074706Z
UID:31531-1776765600-1776783600@www.ichthuslyceum.nl
SUMMARY:2Hh AK-BIO Landbouw excursie (1e & 2e uur les en na excursie uit)
DESCRIPTION:
URL:https://www.ichthuslyceum.nl/gebeurtenis/2hh-ak-bio-landbouw-excursie-1e-2e-uur-les-en-na-excursie-uit/
CATEGORIES:2 HAVO
END:VEVENT
BEGIN:VEVENT
DTSTART;TZID=Europe/Amsterdam:20260421T124500
DTEND;TZID=Europe/Amsterdam:20260421T125500
DTSTAMP:20260421T120736
CREATED:20250925T102443Z
LAST-MODIFIED:20251001T084650Z
UID:31101-1776775500-1776776100@www.ichthuslyceum.nl
SUMMARY:5H Examenfoto
DESCRIPTION:
URL:https://www.ichthuslyceum.nl/gebeurtenis/5h-examenfoto/
CATEGORIES:5 HAVO
END:VEVENT
BEGIN:VEVENT
DTSTART;TZID=Europe/Amsterdam:20260421T130000
DTEND;TZID=Europe/Amsterdam:20260421T131000
DTSTAMP:20260421T120736
CREATED:20250925T102443Z
LAST-MODIFIED:20251001T084650Z
UID:31102-1776776400-1776777000@www.ichthuslyceum.nl
SUMMARY:6V Examenfoto
DESCRIPTION:
URL:https://www.ichthuslyceum.nl/gebeurtenis/6v-examenfoto/
CATEGORIES:6 VWO
END:VEVENT
END:VCALENDAR